Package: TAPseq Version: 1.12.0 Command: rm -rf TAPseq.buildbin-libdir && mkdir TAPseq.buildbin-libdir && F:\biocbuild\bbs-3.17-bioc\R\bin\R.exe CMD INSTALL --build --library=TAPseq.buildbin-libdir TAPseq_1.12.0.tar.gz StartedAt: 2023-10-16 09:38:17 -0400 (Mon, 16 Oct 2023) EndedAt: 2023-10-16 09:39:10 -0400 (Mon, 16 Oct 2023) EllapsedTime: 53.1 seconds RetCode: 0 Status: OK PackageFile: TAPseq_1.12.0.zip PackageFileSize: 2.875 MiB