Package: TAPseq Version: 1.12.0 Command: /home/biocbuild/bbs-3.17-bioc/R/bin/R CMD check --install=check:TAPseq.install-out.txt --library=/home/biocbuild/bbs-3.17-bioc/R/site-library --timings TAPseq_1.12.0.tar.gz StartedAt: 2023-10-16 01:40:02 -0400 (Mon, 16 Oct 2023) EndedAt: 2023-10-16 01:48:30 -0400 (Mon, 16 Oct 2023) EllapsedTime: 507.6 seconds RetCode: 0 Status: WARNINGS CheckDir: TAPseq.Rcheck Warnings: 1