Package: TAPseq Version: 1.12.0 Command: /home/biocbuild/bbs-3.17-bioc/R/bin/R CMD build --keep-empty-dirs --no-resave-data TAPseq StartedAt: 2023-10-15 18:46:10 -0400 (Sun, 15 Oct 2023) EndedAt: 2023-10-15 18:48:05 -0400 (Sun, 15 Oct 2023) EllapsedTime: 114.9 seconds RetCode: 0 Status: OK PackageFile: TAPseq_1.12.0.tar.gz PackageFileSize: 2.536 MiB