Package: TAPseq Version: 1.12.0 Command: /Library/Frameworks/R.framework/Resources/bin/R CMD build --keep-empty-dirs --no-resave-data TAPseq StartedAt: 2023-10-15 21:49:15 -0400 (Sun, 15 Oct 2023) EndedAt: 2023-10-15 21:53:22 -0400 (Sun, 15 Oct 2023) EllapsedTime: 246.6 seconds RetCode: 0 Status: OK PackageFile: TAPseq_1.12.0.tar.gz PackageFileSize: 2.552 MiB