Package: TAPseq Version: 1.12.0 Command: rm -rf TAPseq.buildbin-libdir && mkdir TAPseq.buildbin-libdir && /Users/biocbuild/BBS/utils/build-universal.sh TAPseq_1.12.0.tar.gz /Library/Frameworks/R.framework/Resources/bin/R TAPseq.buildbin-libdir StartedAt: 2023-10-16 10:20:11 -0400 (Mon, 16 Oct 2023) EndedAt: 2023-10-16 10:22:20 -0400 (Mon, 16 Oct 2023) EllapsedTime: 129.0 seconds RetCode: 0 Status: OK PackageFile: TAPseq_1.12.0.tgz PackageFileSize: 2.976 MiB