Package: TADCompare Version: 1.10.0 Command: chmod a+r TADCompare -R && F:\biocbuild\bbs-3.17-bioc\R\bin\R.exe CMD build --keep-empty-dirs --no-resave-data TADCompare StartedAt: 2023-10-15 22:46:52 -0400 (Sun, 15 Oct 2023) EndedAt: 2023-10-15 22:49:25 -0400 (Sun, 15 Oct 2023) EllapsedTime: 152.8 seconds RetCode: 0 Status: OK PackageFile: TADCompare_1.10.0.tar.gz PackageFileSize: 3.464 MiB