Package: TADCompare Version: 1.10.0 Command: rm -rf TADCompare.buildbin-libdir && mkdir TADCompare.buildbin-libdir && F:\biocbuild\bbs-3.17-bioc\R\bin\R.exe CMD INSTALL --build --library=TADCompare.buildbin-libdir TADCompare_1.10.0.tar.gz StartedAt: 2023-10-16 09:38:14 -0400 (Mon, 16 Oct 2023) EndedAt: 2023-10-16 09:38:50 -0400 (Mon, 16 Oct 2023) EllapsedTime: 36.5 seconds RetCode: 0 Status: OK PackageFile: TADCompare_1.10.0.zip PackageFileSize: 4.243 MiB