Package: TADCompare Version: 1.10.0 Command: /home/biocbuild/bbs-3.17-bioc/R/bin/R CMD build --keep-empty-dirs --no-resave-data TADCompare StartedAt: 2023-10-15 18:45:59 -0400 (Sun, 15 Oct 2023) EndedAt: 2023-10-15 18:48:27 -0400 (Sun, 15 Oct 2023) EllapsedTime: 148.4 seconds RetCode: 0 Status: OK PackageFile: TADCompare_1.10.0.tar.gz PackageFileSize: 4.046 MiB