Package: SynMut Version: 1.16.0 Command: chmod a+r SynMut -R && F:\biocbuild\bbs-3.17-bioc\R\bin\R.exe CMD build --keep-empty-dirs --no-resave-data SynMut StartedAt: 2023-10-15 22:46:21 -0400 (Sun, 15 Oct 2023) EndedAt: 2023-10-15 22:46:45 -0400 (Sun, 15 Oct 2023) EllapsedTime: 24.1 seconds RetCode: 0 Status: OK PackageFile: SynMut_1.16.0.tar.gz PackageFileSize: 104.5 KiB