Package: SynMut Version: 1.16.0 Command: /home/biocbuild/bbs-3.17-bioc/R/bin/R CMD INSTALL SynMut StartedAt: 2023-10-15 15:12:58 -0400 (Sun, 15 Oct 2023) EndedAt: 2023-10-15 15:13:10 -0400 (Sun, 15 Oct 2023) EllapsedTime: 11.6 seconds RetCode: 0 Status: OK