Package: SynMut Version: 1.16.0 Command: /Library/Frameworks/R.framework/Resources/bin/R CMD INSTALL SynMut StartedAt: 2023-10-15 15:12:39 -0400 (Sun, 15 Oct 2023) EndedAt: 2023-10-15 15:13:21 -0400 (Sun, 15 Oct 2023) EllapsedTime: 42.1 seconds RetCode: 0 Status: OK