Package: SynMut Version: 1.16.0 Command: /Library/Frameworks/R.framework/Resources/bin/R CMD check --install=check:SynMut.install-out.txt --library=/Library/Frameworks/R.framework/Resources/library --no-vignettes --timings SynMut_1.16.0.tar.gz StartedAt: 2023-10-16 07:53:33 -0400 (Mon, 16 Oct 2023) EndedAt: 2023-10-16 07:57:13 -0400 (Mon, 16 Oct 2023) EllapsedTime: 219.5 seconds RetCode: 0 Status: OK CheckDir: SynMut.Rcheck Warnings: 0