Package: SynMut Version: 1.16.0 Command: rm -rf SynMut.buildbin-libdir && mkdir SynMut.buildbin-libdir && /Users/biocbuild/BBS/utils/build-universal.sh SynMut_1.16.0.tar.gz /Library/Frameworks/R.framework/Resources/bin/R SynMut.buildbin-libdir StartedAt: 2023-10-16 10:19:58 -0400 (Mon, 16 Oct 2023) EndedAt: 2023-10-16 10:20:41 -0400 (Mon, 16 Oct 2023) EllapsedTime: 42.8 seconds RetCode: 0 Status: OK PackageFile: SynMut_1.16.0.tgz PackageFileSize: 315.9 KiB