Package: SynExtend Version: 1.12.0 Command: rm -rf SynExtend.buildbin-libdir && mkdir SynExtend.buildbin-libdir && F:\biocbuild\bbs-3.17-bioc\R\bin\R.exe CMD INSTALL --build --library=SynExtend.buildbin-libdir SynExtend_1.12.0.tar.gz StartedAt: 2023-10-16 09:38:02 -0400 (Mon, 16 Oct 2023) EndedAt: 2023-10-16 09:38:45 -0400 (Mon, 16 Oct 2023) EllapsedTime: 42.7 seconds RetCode: 0 Status: OK PackageFile: SynExtend_1.12.0.zip PackageFileSize: 2.828 MiB