Package: SynExtend Version: 1.12.0 Command: /Library/Frameworks/R.framework/Resources/bin/R CMD check --install=check:SynExtend.install-out.txt --library=/Library/Frameworks/R.framework/Resources/library --no-vignettes --timings SynExtend_1.12.0.tar.gz StartedAt: 2023-10-16 07:52:54 -0400 (Mon, 16 Oct 2023) EndedAt: 2023-10-16 08:00:11 -0400 (Mon, 16 Oct 2023) EllapsedTime: 437.8 seconds RetCode: 0 Status: OK CheckDir: SynExtend.Rcheck Warnings: 0