Package: SynExtend Version: 1.12.0 Command: /Library/Frameworks/R.framework/Resources/bin/R CMD build --keep-empty-dirs --no-resave-data SynExtend StartedAt: 2023-10-15 21:48:17 -0400 (Sun, 15 Oct 2023) EndedAt: 2023-10-15 21:50:01 -0400 (Sun, 15 Oct 2023) EllapsedTime: 104.1 seconds RetCode: 0 Status: OK PackageFile: SynExtend_1.12.0.tar.gz PackageFileSize: 2.126 MiB