Package: SwathXtend Version: 2.22.0 Command: /home/biocbuild/bbs-3.17-bioc/R/bin/R CMD check --install=check:SwathXtend.install-out.txt --library=/home/biocbuild/bbs-3.17-bioc/R/site-library --timings SwathXtend_2.22.0.tar.gz StartedAt: 2023-10-16 01:36:27 -0400 (Mon, 16 Oct 2023) EndedAt: 2023-10-16 01:43:36 -0400 (Mon, 16 Oct 2023) EllapsedTime: 429.2 seconds RetCode: 0 Status: WARNINGS CheckDir: SwathXtend.Rcheck Warnings: 1