Package: Summix Version: 2.6.0 Command: /Library/Frameworks/R.framework/Resources/bin/R CMD INSTALL Summix StartedAt: 2023-10-15 15:52:23 -0400 (Sun, 15 Oct 2023) EndedAt: 2023-10-15 15:52:28 -0400 (Sun, 15 Oct 2023) EllapsedTime: 5.1 seconds RetCode: 0 Status: OK