Package: Summix Version: 2.6.0 Command: /Library/Frameworks/R.framework/Resources/bin/R CMD check --install=check:Summix.install-out.txt --library=/Library/Frameworks/R.framework/Resources/library --no-vignettes --timings Summix_2.6.0.tar.gz StartedAt: 2023-10-16 07:47:31 -0400 (Mon, 16 Oct 2023) EndedAt: 2023-10-16 07:48:22 -0400 (Mon, 16 Oct 2023) EllapsedTime: 51.6 seconds RetCode: 0 Status: WARNINGS CheckDir: Summix.Rcheck Warnings: 1