Package: Summix Version: 2.6.0 Command: rm -rf Summix.buildbin-libdir && mkdir Summix.buildbin-libdir && /Users/biocbuild/BBS/utils/build-universal.sh Summix_2.6.0.tar.gz /Library/Frameworks/R.framework/Resources/bin/R Summix.buildbin-libdir StartedAt: 2023-10-16 10:19:14 -0400 (Mon, 16 Oct 2023) EndedAt: 2023-10-16 10:19:20 -0400 (Mon, 16 Oct 2023) EllapsedTime: 6.4 seconds RetCode: 0 Status: OK PackageFile: Summix_2.6.0.tgz PackageFileSize: 442.3 KiB