Package: SummarizedExperiment Version: 1.30.2 Command: F:\biocbuild\bbs-3.17-bioc\R\bin\R.exe CMD INSTALL SummarizedExperiment StartedAt: 2023-10-15 15:55:22 -0400 (Sun, 15 Oct 2023) EndedAt: 2023-10-15 15:56:05 -0400 (Sun, 15 Oct 2023) EllapsedTime: 43.3 seconds RetCode: 0 Status: OK