Package: SummarizedExperiment Version: 1.30.2 Command: F:\biocbuild\bbs-3.17-bioc\R\bin\R.exe CMD check --no-multiarch --install=check:SummarizedExperiment.install-out.txt --library=F:\biocbuild\bbs-3.17-bioc\R\library --no-vignettes --timings SummarizedExperiment_1.30.2.tar.gz StartedAt: 2023-10-16 07:26:27 -0400 (Mon, 16 Oct 2023) EndedAt: 2023-10-16 07:29:21 -0400 (Mon, 16 Oct 2023) EllapsedTime: 173.5 seconds RetCode: 0 Status: OK CheckDir: SummarizedExperiment.Rcheck Warnings: 0