Package: SummarizedExperiment Version: 1.30.2 Command: chmod a+r SummarizedExperiment -R && F:\biocbuild\bbs-3.17-bioc\R\bin\R.exe CMD build --keep-empty-dirs --no-resave-data SummarizedExperiment StartedAt: 2023-10-15 22:44:02 -0400 (Sun, 15 Oct 2023) EndedAt: 2023-10-15 22:45:01 -0400 (Sun, 15 Oct 2023) EllapsedTime: 58.3 seconds RetCode: 0 Status: OK PackageFile: SummarizedExperiment_1.30.2.tar.gz PackageFileSize: 669.2 KiB