Package: SummarizedExperiment Version: 1.30.2 Command: rm -rf SummarizedExperiment.buildbin-libdir && mkdir SummarizedExperiment.buildbin-libdir && F:\biocbuild\bbs-3.17-bioc\R\bin\R.exe CMD INSTALL --build --library=SummarizedExperiment.buildbin-libdir SummarizedExperiment_1.30.2.tar.gz StartedAt: 2023-10-16 09:37:18 -0400 (Mon, 16 Oct 2023) EndedAt: 2023-10-16 09:38:10 -0400 (Mon, 16 Oct 2023) EllapsedTime: 51.4 seconds RetCode: 0 Status: OK PackageFile: SummarizedExperiment_1.30.2.zip PackageFileSize: 1.885 MiB