Package: SummarizedExperiment Version: 1.30.2 Command: /home/biocbuild/bbs-3.17-bioc/R/bin/R CMD check --install=check:SummarizedExperiment.install-out.txt --library=/home/biocbuild/bbs-3.17-bioc/R/site-library --timings SummarizedExperiment_1.30.2.tar.gz StartedAt: 2023-10-16 01:34:38 -0400 (Mon, 16 Oct 2023) EndedAt: 2023-10-16 01:37:58 -0400 (Mon, 16 Oct 2023) EllapsedTime: 199.8 seconds RetCode: 0 Status: OK CheckDir: SummarizedExperiment.Rcheck Warnings: 0