Package: SummarizedExperiment Version: 1.30.2 Command: /home/biocbuild/bbs-3.17-bioc/R/bin/R CMD build --keep-empty-dirs --no-resave-data SummarizedExperiment StartedAt: 2023-10-15 18:44:21 -0400 (Sun, 15 Oct 2023) EndedAt: 2023-10-15 18:45:06 -0400 (Sun, 15 Oct 2023) EllapsedTime: 44.7 seconds RetCode: 0 Status: OK PackageFile: SummarizedExperiment_1.30.2.tar.gz PackageFileSize: 668.5 KiB