Package: SummarizedExperiment Version: 1.30.2 Command: /Library/Frameworks/R.framework/Resources/bin/R CMD check --install=check:SummarizedExperiment.install-out.txt --library=/Library/Frameworks/R.framework/Resources/library --no-vignettes --timings SummarizedExperiment_1.30.2.tar.gz StartedAt: 2023-10-16 07:47:23 -0400 (Mon, 16 Oct 2023) EndedAt: 2023-10-16 07:55:10 -0400 (Mon, 16 Oct 2023) EllapsedTime: 466.3 seconds RetCode: 0 Status: OK CheckDir: SummarizedExperiment.Rcheck Warnings: 0