Package: SummarizedExperiment Version: 1.30.2 Command: /Library/Frameworks/R.framework/Resources/bin/R CMD build --keep-empty-dirs --no-resave-data SummarizedExperiment StartedAt: 2023-10-15 21:45:42 -0400 (Sun, 15 Oct 2023) EndedAt: 2023-10-15 21:47:39 -0400 (Sun, 15 Oct 2023) EllapsedTime: 117.0 seconds RetCode: 0 Status: OK PackageFile: SummarizedExperiment_1.30.2.tar.gz PackageFileSize: 668.3 KiB