Package: SummarizedBenchmark Version: 2.18.0 Command: F:\biocbuild\bbs-3.17-bioc\R\bin\R.exe CMD INSTALL SummarizedBenchmark StartedAt: 2023-10-15 16:15:13 -0400 (Sun, 15 Oct 2023) EndedAt: 2023-10-15 16:15:54 -0400 (Sun, 15 Oct 2023) EllapsedTime: 41.1 seconds RetCode: 0 Status: OK