Package: SummarizedBenchmark Version: 2.18.0 Command: chmod a+r SummarizedBenchmark -R && F:\biocbuild\bbs-3.17-bioc\R\bin\R.exe CMD build --keep-empty-dirs --no-resave-data SummarizedBenchmark StartedAt: 2023-10-15 22:43:59 -0400 (Sun, 15 Oct 2023) EndedAt: 2023-10-15 22:50:06 -0400 (Sun, 15 Oct 2023) EllapsedTime: 366.1 seconds RetCode: 0 Status: OK PackageFile: SummarizedBenchmark_2.18.0.tar.gz PackageFileSize: 6.171 MiB