Package: SummarizedBenchmark Version: 2.18.0 Command: /Library/Frameworks/R.framework/Resources/bin/R CMD build --keep-empty-dirs --no-resave-data SummarizedBenchmark StartedAt: 2023-10-15 21:45:34 -0400 (Sun, 15 Oct 2023) EndedAt: 2023-10-15 21:55:37 -0400 (Sun, 15 Oct 2023) EllapsedTime: 603.6 seconds RetCode: 0 Status: OK PackageFile: SummarizedBenchmark_2.18.0.tar.gz PackageFileSize: 6.46 MiB