Package: SummarizedBenchmark Version: 2.18.0 Command: rm -rf SummarizedBenchmark.buildbin-libdir && mkdir SummarizedBenchmark.buildbin-libdir && /Users/biocbuild/BBS/utils/build-universal.sh SummarizedBenchmark_2.18.0.tar.gz /Library/Frameworks/R.framework/Resources/bin/R SummarizedBenchmark.buildbin-libdir StartedAt: 2023-10-16 10:19:07 -0400 (Mon, 16 Oct 2023) EndedAt: 2023-10-16 10:20:49 -0400 (Mon, 16 Oct 2023) EllapsedTime: 101.3 seconds RetCode: 0 Status: OK PackageFile: SummarizedBenchmark_2.18.0.tgz PackageFileSize: 9.248 MiB