Package: SubCellBarCode Version: 1.16.0 Command: /home/biocbuild/bbs-3.17-bioc/R/bin/R CMD build --keep-empty-dirs --no-resave-data SubCellBarCode StartedAt: 2023-10-15 18:43:46 -0400 (Sun, 15 Oct 2023) EndedAt: 2023-10-15 18:48:50 -0400 (Sun, 15 Oct 2023) EllapsedTime: 303.6 seconds RetCode: 0 Status: OK PackageFile: SubCellBarCode_1.16.0.tar.gz PackageFileSize: 2.167 MiB