Package: Structstrings Version: 1.16.0 Command: F:\biocbuild\bbs-3.17-bioc\R\bin\R.exe CMD check --no-multiarch --install=check:Structstrings.install-out.txt --library=F:\biocbuild\bbs-3.17-bioc\R\library --no-vignettes --timings Structstrings_1.16.0.tar.gz StartedAt: 2023-10-16 07:24:10 -0400 (Mon, 16 Oct 2023) EndedAt: 2023-10-16 07:27:27 -0400 (Mon, 16 Oct 2023) EllapsedTime: 196.8 seconds RetCode: 0 Status: OK CheckDir: Structstrings.Rcheck Warnings: 0