Package: Structstrings Version: 1.16.0 Command: rm -rf Structstrings.buildbin-libdir && mkdir Structstrings.buildbin-libdir && F:\biocbuild\bbs-3.17-bioc\R\bin\R.exe CMD INSTALL --build --library=Structstrings.buildbin-libdir Structstrings_1.16.0.tar.gz StartedAt: 2023-10-16 09:37:05 -0400 (Mon, 16 Oct 2023) EndedAt: 2023-10-16 09:37:34 -0400 (Mon, 16 Oct 2023) EllapsedTime: 28.4 seconds RetCode: 0 Status: OK PackageFile: Structstrings_1.16.0.zip PackageFileSize: 814 KiB