Package: Structstrings Version: 1.16.0 Command: /home/biocbuild/bbs-3.17-bioc/R/bin/R CMD check --install=check:Structstrings.install-out.txt --library=/home/biocbuild/bbs-3.17-bioc/R/site-library --timings Structstrings_1.16.0.tar.gz StartedAt: 2023-10-16 01:33:02 -0400 (Mon, 16 Oct 2023) EndedAt: 2023-10-16 01:36:15 -0400 (Mon, 16 Oct 2023) EllapsedTime: 193.2 seconds RetCode: 0 Status: OK CheckDir: Structstrings.Rcheck Warnings: 0