Package: Streamer Version: 1.46.0 Command: chmod a+r Streamer -R && F:\biocbuild\bbs-3.17-bioc\R\bin\R.exe CMD build --keep-empty-dirs --no-resave-data Streamer StartedAt: 2023-10-15 22:42:48 -0400 (Sun, 15 Oct 2023) EndedAt: 2023-10-15 22:43:18 -0400 (Sun, 15 Oct 2023) EllapsedTime: 30.4 seconds RetCode: 0 Status: OK PackageFile: Streamer_1.46.0.tar.gz PackageFileSize: 135.1 KiB