Package: Streamer Version: 1.46.0 Command: /home/biocbuild/bbs-3.17-bioc/R/bin/R CMD build --keep-empty-dirs --no-resave-data Streamer StartedAt: 2023-10-15 18:43:09 -0400 (Sun, 15 Oct 2023) EndedAt: 2023-10-15 18:43:26 -0400 (Sun, 15 Oct 2023) EllapsedTime: 17.0 seconds RetCode: 0 Status: OK PackageFile: Streamer_1.46.0.tar.gz PackageFileSize: 134.4 KiB