Package: Streamer Version: 1.46.0 Command: /Library/Frameworks/R.framework/Resources/bin/R CMD build --keep-empty-dirs --no-resave-data Streamer StartedAt: 2023-10-15 21:44:06 -0400 (Sun, 15 Oct 2023) EndedAt: 2023-10-15 21:44:56 -0400 (Sun, 15 Oct 2023) EllapsedTime: 49.3 seconds RetCode: 0 Status: OK PackageFile: Streamer_1.46.0.tar.gz PackageFileSize: 134 KiB