Package: Statial Version: 1.2.4 Command: F:\biocbuild\bbs-3.17-bioc\R\bin\R.exe CMD check --no-multiarch --install=check:Statial.install-out.txt --library=F:\biocbuild\bbs-3.17-bioc\R\library --no-vignettes --timings Statial_1.2.4.tar.gz StartedAt: 2023-10-16 07:21:35 -0400 (Mon, 16 Oct 2023) EndedAt: 2023-10-16 07:29:55 -0400 (Mon, 16 Oct 2023) EllapsedTime: 499.5 seconds RetCode: 0 Status: OK CheckDir: Statial.Rcheck Warnings: 0