Package: Statial Version: 1.2.4 Command: /Library/Frameworks/R.framework/Resources/bin/R CMD check --install=check:Statial.install-out.txt --library=/Library/Frameworks/R.framework/Resources/library --no-vignettes --timings Statial_1.2.4.tar.gz StartedAt: 2023-10-16 07:41:40 -0400 (Mon, 16 Oct 2023) EndedAt: 2023-10-16 07:57:47 -0400 (Mon, 16 Oct 2023) EllapsedTime: 967.2 seconds RetCode: 0 Status: OK CheckDir: Statial.Rcheck Warnings: 0