Package: StarBioTrek Version: 1.26.0 Command: rm -rf StarBioTrek.buildbin-libdir && mkdir StarBioTrek.buildbin-libdir && F:\biocbuild\bbs-3.17-bioc\R\bin\R.exe CMD INSTALL --build --library=StarBioTrek.buildbin-libdir StarBioTrek_1.26.0.tar.gz StartedAt: 2023-10-16 09:36:43 -0400 (Mon, 16 Oct 2023) EndedAt: 2023-10-16 09:37:20 -0400 (Mon, 16 Oct 2023) EllapsedTime: 37.0 seconds RetCode: 0 Status: OK PackageFile: StarBioTrek_1.26.0.zip PackageFileSize: 8.471 MiB