Package: StarBioTrek Version: 1.26.0 Command: /home/biocbuild/bbs-3.17-bioc/R/bin/R CMD INSTALL StarBioTrek StartedAt: 2023-10-15 15:20:32 -0400 (Sun, 15 Oct 2023) EndedAt: 2023-10-15 15:20:57 -0400 (Sun, 15 Oct 2023) EllapsedTime: 24.9 seconds RetCode: 0 Status: OK