Package: StarBioTrek Version: 1.26.0 Command: /home/biocbuild/bbs-3.17-bioc/R/bin/R CMD build --keep-empty-dirs --no-resave-data StarBioTrek StartedAt: 2023-10-15 18:42:19 -0400 (Sun, 15 Oct 2023) EndedAt: 2023-10-15 18:43:30 -0400 (Sun, 15 Oct 2023) EllapsedTime: 71.1 seconds RetCode: 0 Status: OK PackageFile: StarBioTrek_1.26.0.tar.gz PackageFileSize: 8.291 MiB