Package: SpotClean Version: 1.2.0 Command: /home/biocbuild/bbs-3.17-bioc/R/bin/R CMD INSTALL SpotClean StartedAt: 2023-10-15 15:38:13 -0400 (Sun, 15 Oct 2023) EndedAt: 2023-10-15 15:38:51 -0400 (Sun, 15 Oct 2023) EllapsedTime: 37.4 seconds RetCode: 0 Status: OK