Package: SpotClean Version: 1.2.0 Command: /home/biocbuild/bbs-3.17-bioc/R/bin/R CMD check --install=check:SpotClean.install-out.txt --library=/home/biocbuild/bbs-3.17-bioc/R/site-library --timings SpotClean_1.2.0.tar.gz StartedAt: 2023-10-16 01:24:47 -0400 (Mon, 16 Oct 2023) EndedAt: 2023-10-16 01:38:51 -0400 (Mon, 16 Oct 2023) EllapsedTime: 843.8 seconds RetCode: 0 Status: OK CheckDir: SpotClean.Rcheck Warnings: 0