Package: SpotClean Version: 1.2.0 Command: /home/biocbuild/bbs-3.17-bioc/R/bin/R CMD build --keep-empty-dirs --no-resave-data SpotClean StartedAt: 2023-10-15 18:40:29 -0400 (Sun, 15 Oct 2023) EndedAt: 2023-10-15 18:44:41 -0400 (Sun, 15 Oct 2023) EllapsedTime: 252.4 seconds RetCode: 0 Status: OK PackageFile: SpotClean_1.2.0.tar.gz PackageFileSize: 3.912 MiB