Package: SplicingGraphs Version: 1.40.0 Command: rm -rf SplicingGraphs.buildbin-libdir && mkdir SplicingGraphs.buildbin-libdir && F:\biocbuild\bbs-3.17-bioc\R\bin\R.exe CMD INSTALL --build --library=SplicingGraphs.buildbin-libdir SplicingGraphs_1.40.0.tar.gz StartedAt: 2023-10-16 09:35:54 -0400 (Mon, 16 Oct 2023) EndedAt: 2023-10-16 09:36:51 -0400 (Mon, 16 Oct 2023) EllapsedTime: 57.3 seconds RetCode: 0 Status: OK PackageFile: SplicingGraphs_1.40.0.zip PackageFileSize: 4.568 MiB