Package: SplicingGraphs Version: 1.40.0 Command: /home/biocbuild/bbs-3.17-bioc/R/bin/R CMD INSTALL SplicingGraphs StartedAt: 2023-10-15 15:23:06 -0400 (Sun, 15 Oct 2023) EndedAt: 2023-10-15 15:23:49 -0400 (Sun, 15 Oct 2023) EllapsedTime: 43.5 seconds RetCode: 0 Status: OK