Package: SplicingGraphs Version: 1.40.0 Command: /Library/Frameworks/R.framework/Resources/bin/R CMD INSTALL SplicingGraphs StartedAt: 2023-10-15 15:41:45 -0400 (Sun, 15 Oct 2023) EndedAt: 2023-10-15 15:44:06 -0400 (Sun, 15 Oct 2023) EllapsedTime: 140.6 seconds RetCode: 0 Status: OK